BEGIN:VCALENDAR
VERSION:2.0
PRODID:-//www.mokangreyhounds.org//NONSGML kigkonsult.se iCalcreator 2.30.1
 0//
CALSCALE:GREGORIAN
METHOD:PUBLISH
UID:a93cae7c-e88d-48a7-84bf-f112be9e7bcd
X-WR-CALDESC:Join us in North Kansas City for an afternoon of napping and G
 reyhound hugs!
X-WR-RELCALID:476d5cb525876273f1ded017f19e426b
X-WR-TIMEZONE:America/Chicago
BEGIN:VTIMEZONE
TZID:America/Chicago
BEGIN:STANDARD
TZNAME:CST
DTSTART:20151101T020000
TZOFFSETFROM:-0500
TZOFFSETTO:-0600
RDATE:20161106T020000
RDATE:20171105T020000
END:STANDARD
BEGIN:DAYLIGHT
TZNAME:CDT
DTSTART:20160313T020000
TZOFFSETFROM:-0600
TZOFFSETTO:-0500
RDATE:20170312T020000
RDATE:20180311T020000
END:DAYLIGHT
END:VTIMEZONE
BEGIN:VEVENT
UID:133c5bfa-49f6-424d-ad3b-71dac42ccc45
DTSTAMP:20260426T001001Z
DESCRIPTION:Join us in North Kansas City for an afternoon of napping and Gr
 eyhound hugs!
DTSTART;TZID=America/Chicago:20160910T110000
DTEND;TZID=America/Chicago:20160910T150000
LOCATION:Miles of Exotics
SUMMARY:Adoption Event - Miles of Exotics
END:VEVENT
END:VCALENDAR
