BEGIN:VCALENDAR
VERSION:2.0
PRODID:-//www.mokangreyhounds.org//NONSGML kigkonsult.se iCalcreator 2.30.1
 0//
CALSCALE:GREGORIAN
METHOD:PUBLISH
UID:de2bd339-1b9c-4372-9221-0248a63db2b7
X-WR-CALDESC:Join us at the Independence\, MO Petco for Greyhound hugs and 
 naps!\n\nVolunteers can sign up at www.whentohelp.com
X-WR-RELCALID:f16d812e79e7b395ee626887d6d71fc2
X-WR-TIMEZONE:America/Chicago
BEGIN:VTIMEZONE
TZID:America/Chicago
BEGIN:STANDARD
TZNAME:CST
DTSTART:20151101T020000
TZOFFSETFROM:-0500
TZOFFSETTO:-0600
RDATE:20161106T020000
RDATE:20171105T020000
END:STANDARD
BEGIN:DAYLIGHT
TZNAME:CDT
DTSTART:20160313T020000
TZOFFSETFROM:-0600
TZOFFSETTO:-0500
RDATE:20170312T020000
RDATE:20180311T020000
END:DAYLIGHT
END:VTIMEZONE
BEGIN:VEVENT
UID:76bd13bb-21de-4e60-8ac2-400fb0cfa239
DTSTAMP:20260426T003201Z
DESCRIPTION:Join us at the Independence\, MO Petco for Greyhound hugs and n
 aps!\n\nVolunteers can sign up at www.whentohelp.com
DTSTART;TZID=America/Chicago:20160924T110000
DTEND;TZID=America/Chicago:20160924T150000
LOCATION:Independence Petco\, 4201 S Noland Rd\, Ste #L-1\, Independence\, 
 MO 64055
SUMMARY:Adoption Event - Independence Petco
END:VEVENT
END:VCALENDAR
