BEGIN:VCALENDAR
VERSION:2.0
PRODID:-//www.mokangreyhounds.org//NONSGML kigkonsult.se iCalcreator 2.30.1
 0//
CALSCALE:GREGORIAN
METHOD:PUBLISH
UID:3e83bc08-3e73-4433-bef2-1ebff7e915ec
X-WR-CALDESC:Join us at the 2nd Annual Barktober Fest for a day of music\, 
 vendors and family fun!\n\nVolunteers can sign up at www.whentohelp.com
X-WR-RELCALID:cdcf4da931bfd2ed7f36c5b454a73c74
X-WR-TIMEZONE:America/Chicago
BEGIN:VTIMEZONE
TZID:America/Chicago
BEGIN:STANDARD
TZNAME:CST
DTSTART:20151101T020000
TZOFFSETFROM:-0500
TZOFFSETTO:-0600
RDATE:20161106T020000
RDATE:20171105T020000
END:STANDARD
BEGIN:DAYLIGHT
TZNAME:CDT
DTSTART:20160313T020000
TZOFFSETFROM:-0600
TZOFFSETTO:-0500
RDATE:20170312T020000
RDATE:20180311T020000
END:DAYLIGHT
END:VTIMEZONE
BEGIN:VEVENT
UID:e8343dd2-73ea-4012-bb3c-df910a9b41f1
DTSTAMP:20260425T225122Z
DESCRIPTION:Join us at the 2nd Annual Barktober Fest for a day of music\, v
 endors and family fun!\n\nVolunteers can sign up at www.whentohelp.com
DTSTART;TZID=America/Chicago:20161001T100000
DTEND;TZID=America/Chicago:20161001T210000
LOCATION:Shawnee Mission Theater in the Park\, 7710 Renner Rd\, Shawnee\, K
 S 66217
SUMMARY:Barktober Fest
END:VEVENT
END:VCALENDAR
