BEGIN:VCALENDAR
VERSION:2.0
PRODID:-//www.mokangreyhounds.org//NONSGML kigkonsult.se iCalcreator 2.30.1
 0//
CALSCALE:GREGORIAN
METHOD:PUBLISH
UID:801ea714-5ef1-4460-8694-7d1c97555a92
X-WR-CALDESC:Join us in Olathe for some Greyhound love at Tractor Supply Co
 mpany!
X-WR-RELCALID:c33b68d39ba043cae3843e9a9370a17d
X-WR-TIMEZONE:America/Chicago
BEGIN:VTIMEZONE
TZID:America/Chicago
BEGIN:STANDARD
TZNAME:CST
DTSTART:20151101T020000
TZOFFSETFROM:-0500
TZOFFSETTO:-0600
RDATE:20161106T020000
RDATE:20171105T020000
END:STANDARD
BEGIN:DAYLIGHT
TZNAME:CDT
DTSTART:20160313T020000
TZOFFSETFROM:-0600
TZOFFSETTO:-0500
RDATE:20170312T020000
RDATE:20180311T020000
END:DAYLIGHT
END:VTIMEZONE
BEGIN:VEVENT
UID:2e5de5ee-312c-48d8-882d-31605326acc4
DTSTAMP:20260425T222042Z
DESCRIPTION:Join us in Olathe for some Greyhound love at Tractor Supply Com
 pany!
DTSTART;TZID=America/Chicago:20161029T110000
DTEND;TZID=America/Chicago:20161029T150000
LOCATION:
SUMMARY:Adoption Event - Tractor Supply Company
END:VEVENT
END:VCALENDAR
