BEGIN:VCALENDAR
VERSION:2.0
PRODID:-//www.mokangreyhounds.org//NONSGML kigkonsult.se iCalcreator 2.30.1
 0//
CALSCALE:GREGORIAN
METHOD:PUBLISH
UID:d306c455-330e-40ef-9d5c-2cabfa1e29b3
X-WR-CALDESC:Join us at the Independence\, MO Petco for Greyhound hugs and 
 naps!\n\nVolunteers can sign up at www.whentohelp.com
X-WR-RELCALID:b569a4321413963e19949805fd381462
X-WR-TIMEZONE:America/Chicago
BEGIN:VTIMEZONE
TZID:America/Chicago
BEGIN:STANDARD
TZNAME:CST
DTSTART:20161106T020000
TZOFFSETFROM:-0500
TZOFFSETTO:-0600
RDATE:20171105T020000
END:STANDARD
BEGIN:DAYLIGHT
TZNAME:CDT
DTSTART:20160313T020000
TZOFFSETFROM:-0600
TZOFFSETTO:-0500
RDATE:20170312T020000
RDATE:20180311T020000
END:DAYLIGHT
END:VTIMEZONE
BEGIN:VEVENT
UID:09112ac4-e50d-4f07-b73c-d710be4b85fb
DTSTAMP:20260425T204218Z
DESCRIPTION:Join us at the Independence\, MO Petco for Greyhound hugs and n
 aps!\n\nVolunteers can sign up at www.whentohelp.com
DTSTART;TZID=America/Chicago:20161112T110000
DTEND;TZID=America/Chicago:20161112T150000
LOCATION:Independence Petco\, 4201 S Noland Rd\, Ste #L-1\, Independence\, 
 MO 64055
SUMMARY:Adoption Event - Independence Petco
END:VEVENT
END:VCALENDAR
