BEGIN:VCALENDAR
VERSION:2.0
PRODID:-//www.mokangreyhounds.org//NONSGML kigkonsult.se iCalcreator 2.30.1
 0//
CALSCALE:GREGORIAN
METHOD:PUBLISH
UID:6b7e7fed-41c8-470e-ae90-2caf38e422ea
X-WR-CALDESC:Come visit the Greyhounds AND get your holiday shopping done t
 oo!
X-WR-RELCALID:870132d9c6e7b0bdbcb18198d471966a
X-WR-TIMEZONE:America/Chicago
BEGIN:VTIMEZONE
TZID:America/Chicago
BEGIN:STANDARD
TZNAME:CST
DTSTART:20161106T020000
TZOFFSETFROM:-0500
TZOFFSETTO:-0600
RDATE:20171105T020000
END:STANDARD
BEGIN:DAYLIGHT
TZNAME:CDT
DTSTART:20160313T020000
TZOFFSETFROM:-0600
TZOFFSETTO:-0500
RDATE:20170312T020000
RDATE:20180311T020000
END:DAYLIGHT
END:VTIMEZONE
BEGIN:VEVENT
UID:b04a8565-c4a8-4741-babc-53dd37ede9c6
DTSTAMP:20260425T205107Z
DESCRIPTION:Come visit the Greyhounds AND get your holiday shopping done to
 o!
DTSTART;TZID=America/Chicago:20161120T110000
DTEND;TZID=America/Chicago:20161120T160000
LOCATION:Kansas Expocentre
SUMMARY:Topeka Holiday Gift Mart
END:VEVENT
END:VCALENDAR
