BEGIN:VCALENDAR
VERSION:2.0
PRODID:-//www.mokangreyhounds.org//NONSGML kigkonsult.se iCalcreator 2.30.1
 0//
CALSCALE:GREGORIAN
METHOD:PUBLISH
UID:3035180f-655d-42b7-a15e-c1df33357883
X-WR-CALDESC:MoKan Greyhound Adoption would like to invite you to our pictu
 res with Santa Event! Please go to our events tab for more information!\nA
  $25 donation to MoKan Greyhound Adoption\, Cash or check only!\nTo make a
 n appt. e-mail Susan at susan@mokangreyhounds.org\nLimited number of slots
 \, so book yours today!!\nWho: Anyone is welcome. Dogs\, kids\, families\n
 What: You will you get: 10-12 digital images on a disc the same day!\nWher
 e: Bluepearl in Overland Park\, KS\, off 110th and Quivira Rd\, Please use
  the north side of the parking lot or the back lot. We will have you come 
 in the back door of the building so we are not interrupting Bluepearl's ER
  services. \nWhen: Sunday\, Dec. 4th from 11a-3pm\, by appointment only\, 
 Appts last 15 mins
X-WR-RELCALID:3d56122815992c2e1bdc8b7e386fdaca
X-WR-TIMEZONE:America/Chicago
BEGIN:VTIMEZONE
TZID:America/Chicago
BEGIN:STANDARD
TZNAME:CST
DTSTART:20161106T020000
TZOFFSETFROM:-0500
TZOFFSETTO:-0600
RDATE:20171105T020000
END:STANDARD
BEGIN:DAYLIGHT
TZNAME:CDT
DTSTART:20160313T020000
TZOFFSETFROM:-0600
TZOFFSETTO:-0500
RDATE:20170312T020000
RDATE:20180311T020000
END:DAYLIGHT
END:VTIMEZONE
BEGIN:VEVENT
UID:5055dd44-be83-41f4-a182-2f87a345c23f
DTSTAMP:20260425T184150Z
DESCRIPTION:MoKan Greyhound Adoption would like to invite you to our pictur
 es with Santa Event! Please go to our events tab for more information!\nA 
 $25 donation to MoKan Greyhound Adoption\, Cash or check only!\nTo make an
  appt. e-mail Susan at susan@mokangreyhounds.org\nLimited number of slots\
 , so book yours today!!\nWho: Anyone is welcome. Dogs\, kids\, families\nW
 hat: You will you get: 10-12 digital images on a disc the same day!\nWhere
 : Bluepearl in Overland Park\, KS\, off 110th and Quivira Rd\, Please use 
 the north side of the parking lot or the back lot. We will have you come i
 n the back door of the building so we are not interrupting Bluepearl's ER 
 services. \nWhen: Sunday\, Dec. 4th from 11a-3pm\, by appointment only\, A
 ppts last 15 mins
DTSTART;TZID=America/Chicago:20161204T110000
DTEND;TZID=America/Chicago:20161204T150000
LOCATION:Blue Pearl Overland Park
SUMMARY:Photos with Santa
END:VEVENT
END:VCALENDAR
