BEGIN:VCALENDAR
VERSION:2.0
PRODID:-//www.mokangreyhounds.org//NONSGML kigkonsult.se iCalcreator 2.30.1
 0//
CALSCALE:GREGORIAN
METHOD:PUBLISH
UID:bdb916e2-e8be-4dee-9670-cc2b0420133a
X-WR-CALDESC:Join us at Four Paws Pantry for a day of Greyhound hugs and na
 ps!\n\nVolunteers can sign up for a shift at www.whentohelp.com
X-WR-RELCALID:7fcd1e393c0486240a49bda9ad10c13c
X-WR-TIMEZONE:America/Chicago
BEGIN:VTIMEZONE
TZID:America/Chicago
BEGIN:STANDARD
TZNAME:CST
DTSTART:20161106T020000
TZOFFSETFROM:-0500
TZOFFSETTO:-0600
RDATE:20171105T020000
END:STANDARD
BEGIN:DAYLIGHT
TZNAME:CDT
DTSTART:20160313T020000
TZOFFSETFROM:-0600
TZOFFSETTO:-0500
RDATE:20170312T020000
RDATE:20180311T020000
END:DAYLIGHT
END:VTIMEZONE
BEGIN:VEVENT
UID:88fe490a-ddf3-4a8a-b492-74a5dc9c361c
DTSTAMP:20260425T185602Z
DESCRIPTION:Join us at Four Paws Pantry for a day of Greyhound hugs and nap
 s!\n\nVolunteers can sign up for a shift at www.whentohelp.com
DTSTART;TZID=America/Chicago:20161210T110000
DTEND;TZID=America/Chicago:20161210T150000
LOCATION:Four Paws Pantry & Spa\, 14040 W 119th St\, Olathe\, KS 66062
SUMMARY:Adoption Event - Four Paws Pantry
END:VEVENT
END:VCALENDAR
