BEGIN:VCALENDAR
VERSION:2.0
PRODID:-//www.mokangreyhounds.org//NONSGML kigkonsult.se iCalcreator 2.30.1
 0//
CALSCALE:GREGORIAN
METHOD:PUBLISH
UID:73f01c01-1d4b-4f0d-8562-e3b3baa70545
X-WR-CALDESC:That's right boys and girls\, it's BINGO time again!!! Join us
  for a stimulating New Year's Eve night of BINGO and help us keep those ad
 optable Greyhounds fed!!! Invite your friends and ask them to spread\, spr
 ead\, spread the word!!!
X-WR-RELCALID:6181f86bda9b2b4567f81181493b977c
X-WR-TIMEZONE:America/Chicago
BEGIN:VTIMEZONE
TZID:America/Chicago
BEGIN:STANDARD
TZNAME:CST
DTSTART:20161106T020000
TZOFFSETFROM:-0500
TZOFFSETTO:-0600
RDATE:20171105T020000
END:STANDARD
BEGIN:DAYLIGHT
TZNAME:CDT
DTSTART:20160313T020000
TZOFFSETFROM:-0600
TZOFFSETTO:-0500
RDATE:20170312T020000
RDATE:20180311T020000
END:DAYLIGHT
END:VTIMEZONE
BEGIN:VEVENT
UID:6c4972be-5cc2-4b4e-8a4c-8986e85c6046
DTSTAMP:20260425T184408Z
DESCRIPTION:That's right boys and girls\, it's BINGO time again!!! Join us 
 for a stimulating New Year's Eve night of BINGO and help us keep those ado
 ptable Greyhounds fed!!! Invite your friends and ask them to spread\, spre
 ad\, spread the word!!!
DTSTART;TZID=America/Chicago:20161231T160000
DTEND;TZID=America/Chicago:20161231T180000
LOCATION:Hamburger Mary's
SUMMARY:Ham-BINGO at Hamburger Mary's
END:VEVENT
END:VCALENDAR
