BEGIN:VCALENDAR
VERSION:2.0
PRODID:-//www.mokangreyhounds.org//NONSGML kigkonsult.se iCalcreator 2.30.1
 0//
CALSCALE:GREGORIAN
METHOD:PUBLISH
UID:78948436-e0d5-4cde-afce-fa0cf62bf18d
X-WR-CALDESC:Join us at the Independence\, MO Petco for Greyhound hugs and 
 naps!\n\nVolunteers can sign up at www.whentohelp.com
X-WR-RELCALID:5d8f376319b8e24e0ce9001f019aada0
X-WR-TIMEZONE:America/Chicago
BEGIN:VTIMEZONE
TZID:America/Chicago
BEGIN:STANDARD
TZNAME:CST
DTSTART:20161106T020000
TZOFFSETFROM:-0500
TZOFFSETTO:-0600
RDATE:20171105T020000
END:STANDARD
BEGIN:DAYLIGHT
TZNAME:CDT
DTSTART:20160313T020000
TZOFFSETFROM:-0600
TZOFFSETTO:-0500
RDATE:20170312T020000
RDATE:20180311T020000
END:DAYLIGHT
END:VTIMEZONE
BEGIN:VEVENT
UID:8a14fb65-23bd-4635-9d78-caeb8e1831b9
DTSTAMP:20260425T165926Z
DESCRIPTION:Join us at the Independence\, MO Petco for Greyhound hugs and n
 aps!\n\nVolunteers can sign up at www.whentohelp.com
DTSTART;TZID=America/Chicago:20170114T110000
DTEND;TZID=America/Chicago:20170114T150000
LOCATION:Independence Petco\, 4201 S Noland Rd\, Ste #L-1\, Independence\, 
 MO 64055
SUMMARY:Adoption Event - Independence Petco
END:VEVENT
END:VCALENDAR
