BEGIN:VCALENDAR
VERSION:2.0
PRODID:-//www.mokangreyhounds.org//NONSGML kigkonsult.se iCalcreator 2.30.1
 0//
CALSCALE:GREGORIAN
METHOD:PUBLISH
UID:cb2800d9-2c23-4224-a74b-b9d8f9d33f07
X-WR-CALDESC:Join us in Olathe for some Greyhound love at Tractor Supply Co
 mpany!
X-WR-RELCALID:17e9abf1ec2675aa7c0288171dc62eb8
X-WR-TIMEZONE:America/Chicago
BEGIN:VTIMEZONE
TZID:America/Chicago
BEGIN:STANDARD
TZNAME:CST
DTSTART:20161106T020000
TZOFFSETFROM:-0500
TZOFFSETTO:-0600
RDATE:20171105T020000
END:STANDARD
BEGIN:DAYLIGHT
TZNAME:CDT
DTSTART:20160313T020000
TZOFFSETFROM:-0600
TZOFFSETTO:-0500
RDATE:20170312T020000
RDATE:20180311T020000
END:DAYLIGHT
END:VTIMEZONE
BEGIN:VEVENT
UID:c38f117f-3475-488f-95df-4aa1d487fd3d
DTSTAMP:20260425T165926Z
DESCRIPTION:Join us in Olathe for some Greyhound love at Tractor Supply Com
 pany!
DTSTART;TZID=America/Chicago:20170114T110000
DTEND;TZID=America/Chicago:20170114T150000
LOCATION:
SUMMARY:Adoption Event - Tractor Supply Company
END:VEVENT
END:VCALENDAR
