BEGIN:VCALENDAR
VERSION:2.0
PRODID:-//www.mokangreyhounds.org//NONSGML kigkonsult.se iCalcreator 2.30.1
 0//
CALSCALE:GREGORIAN
METHOD:PUBLISH
UID:b6b1c2f3-791f-497a-b909-dc1c0f1a9f58
X-WR-CALDESC:Make dinner a selfless act by joining us for a fundraiser to\n
 support MoKan Greyhound Adoption. Come in to the Chipotle\nat 1713 W. 39th
  Street in Kansas City on Tuesday\, January\n17th between 11:00am and 9:00
 pm. Bring in this flyer\, show it\non your smartphone or tell the cashier 
 you’re supporting the\ncause to make sure that 50% of the proceeds will be
  donated\nto MoKan Greyhound Adoption.
X-WR-RELCALID:b8f887c78df84cddd911a45848d02b6f
X-WR-TIMEZONE:America/Chicago
BEGIN:VTIMEZONE
TZID:America/Chicago
BEGIN:STANDARD
TZNAME:CST
DTSTART:20161106T020000
TZOFFSETFROM:-0500
TZOFFSETTO:-0600
RDATE:20171105T020000
END:STANDARD
BEGIN:DAYLIGHT
TZNAME:CDT
DTSTART:20160313T020000
TZOFFSETFROM:-0600
TZOFFSETTO:-0500
RDATE:20170312T020000
RDATE:20180311T020000
END:DAYLIGHT
END:VTIMEZONE
BEGIN:VEVENT
UID:d633adfd-a8cc-41f0-8001-24b1f4d6a20f
DTSTAMP:20260425T170157Z
DESCRIPTION:Make dinner a selfless act by joining us for a fundraiser to\ns
 upport MoKan Greyhound Adoption. Come in to the Chipotle\nat 1713 W. 39th 
 Street in Kansas City on Tuesday\, January\n17th between 11:00am and 9:00p
 m. Bring in this flyer\, show it\non your smartphone or tell the cashier y
 ou’re supporting the\ncause to make sure that 50% of the proceeds will be 
 donated\nto MoKan Greyhound Adoption.
DTSTART;TZID=America/Chicago:20170117T110000
DTEND;TZID=America/Chicago:20170117T210000
LOCATION:Chipotle 1713 W 39th St\, Kansas City\, MO 64111
SUMMARY:Chipotle Fundraiser
END:VEVENT
END:VCALENDAR
