BEGIN:VCALENDAR
VERSION:2.0
PRODID:-//www.mokangreyhounds.org//NONSGML kigkonsult.se iCalcreator 2.30.1
 0//
CALSCALE:GREGORIAN
METHOD:PUBLISH
UID:4bf277a7-66cc-4b14-bbde-f1093ea7113a
X-WR-CALDESC:Join us in North Kansas City for an afternoon of napping and G
 reyhound hugs!
X-WR-RELCALID:d1aac957fce6202acc8e8762ed68a060
X-WR-TIMEZONE:America/Chicago
BEGIN:VTIMEZONE
TZID:America/Chicago
BEGIN:STANDARD
TZNAME:CST
DTSTART:20161106T020000
TZOFFSETFROM:-0500
TZOFFSETTO:-0600
RDATE:20171105T020000
END:STANDARD
BEGIN:DAYLIGHT
TZNAME:CDT
DTSTART:20160313T020000
TZOFFSETFROM:-0600
TZOFFSETTO:-0500
RDATE:20170312T020000
RDATE:20180311T020000
END:DAYLIGHT
END:VTIMEZONE
BEGIN:VEVENT
UID:3465683f-5e51-4acb-b54a-b971364920ba
DTSTAMP:20260425T165858Z
DESCRIPTION:Join us in North Kansas City for an afternoon of napping and Gr
 eyhound hugs!
DTSTART;TZID=America/Chicago:20170128T110000
DTEND;TZID=America/Chicago:20170128T150000
LOCATION:Miles of Exotics
SUMMARY:Adoption Event - Miles of Exotics
END:VEVENT
END:VCALENDAR
