BEGIN:VCALENDAR
VERSION:2.0
PRODID:-//www.mokangreyhounds.org//NONSGML kigkonsult.se iCalcreator 2.30.1
 0//
CALSCALE:GREGORIAN
METHOD:PUBLISH
UID:8ed28534-76dc-4aca-9974-c1a696209f11
X-WR-CALDESC:Join us at Four Paws Pantry for a day of Greyhound hugs and na
 ps!\n\nVolunteers can sign up for a shift at www.whentohelp.com
X-WR-RELCALID:649f1a354d22accc97a550d035b2093a
X-WR-TIMEZONE:America/Chicago
BEGIN:VTIMEZONE
TZID:America/Chicago
BEGIN:STANDARD
TZNAME:CST
DTSTART:20161106T020000
TZOFFSETFROM:-0500
TZOFFSETTO:-0600
RDATE:20171105T020000
END:STANDARD
BEGIN:DAYLIGHT
TZNAME:CDT
DTSTART:20160313T020000
TZOFFSETFROM:-0600
TZOFFSETTO:-0500
RDATE:20170312T020000
RDATE:20180311T020000
END:DAYLIGHT
END:VTIMEZONE
BEGIN:VEVENT
UID:869c8626-a7ff-40a4-a3ca-6d68de3beb11
DTSTAMP:20260425T150248Z
DESCRIPTION:Join us at Four Paws Pantry for a day of Greyhound hugs and nap
 s!\n\nVolunteers can sign up for a shift at www.whentohelp.com
DTSTART;TZID=America/Chicago:20170211T110000
DTEND;TZID=America/Chicago:20170211T150000
LOCATION:Four Paws Pantry & Spa\, 14040 W 119th St\, Olathe\, KS 66062
SUMMARY:Adoption Event - Four Paws Pantry
END:VEVENT
END:VCALENDAR
