BEGIN:VCALENDAR
VERSION:2.0
PRODID:-//www.mokangreyhounds.org//NONSGML kigkonsult.se iCalcreator 2.30.1
 0//
CALSCALE:GREGORIAN
METHOD:PUBLISH
UID:2a8f06a7-29ca-4be6-95e3-fa209686de69
X-WR-CALDESC:Join us for some Greyhound love at Tractor Supply Company!
X-WR-RELCALID:fddc7c69eaa44b4e9e99e1d77d87e7ad
X-WR-TIMEZONE:America/Chicago
BEGIN:VTIMEZONE
TZID:America/Chicago
BEGIN:STANDARD
TZNAME:CST
DTSTART:20161106T020000
TZOFFSETFROM:-0500
TZOFFSETTO:-0600
RDATE:20171105T020000
END:STANDARD
BEGIN:DAYLIGHT
TZNAME:CDT
DTSTART:20160313T020000
TZOFFSETFROM:-0600
TZOFFSETTO:-0500
RDATE:20170312T020000
RDATE:20180311T020000
END:DAYLIGHT
END:VTIMEZONE
BEGIN:VEVENT
UID:ef23f7da-6658-444a-a3fb-ddde853cf039
DTSTAMP:20260425T145158Z
DESCRIPTION:Join us for some Greyhound love at Tractor Supply Company!
DTSTART;TZID=America/Chicago:20170211T110000
DTEND;TZID=America/Chicago:20170211T150000
LOCATION:
SUMMARY:Adoption Event - Tractor Supply Company
END:VEVENT
END:VCALENDAR
