BEGIN:VCALENDAR
VERSION:2.0
PRODID:-//www.mokangreyhounds.org//NONSGML kigkonsult.se iCalcreator 2.30.1
 0//
CALSCALE:GREGORIAN
METHOD:PUBLISH
UID:2ec13369-5c33-4fb6-bfe4-4de79063f52a
X-WR-CALDESC:Join us for an afternoon of trivia and fundraising at Bricks P
 ub & Grub!
X-WR-RELCALID:9e605c9ecda6c0119ed012b9a58d391c
X-WR-TIMEZONE:America/Chicago
BEGIN:VTIMEZONE
TZID:America/Chicago
BEGIN:STANDARD
TZNAME:CST
DTSTART:20161106T020000
TZOFFSETFROM:-0500
TZOFFSETTO:-0600
RDATE:20171105T020000
END:STANDARD
BEGIN:DAYLIGHT
TZNAME:CDT
DTSTART:20160313T020000
TZOFFSETFROM:-0600
TZOFFSETTO:-0500
RDATE:20170312T020000
RDATE:20180311T020000
END:DAYLIGHT
END:VTIMEZONE
BEGIN:VEVENT
UID:cdceb1c4-4c80-4564-84fa-df141607f19c
DTSTAMP:20260425T144300Z
DESCRIPTION:Join us for an afternoon of trivia and fundraising at Bricks Pu
 b & Grub!
DTSTART;TZID=America/Chicago:20170225T150000
DTEND;TZID=America/Chicago:20170225T170000
LOCATION:Bricks Pub & Grub
SUMMARY:Trivia Night
END:VEVENT
END:VCALENDAR
