BEGIN:VCALENDAR
VERSION:2.0
PRODID:-//www.mokangreyhounds.org//NONSGML kigkonsult.se iCalcreator 2.30.1
 0//
CALSCALE:GREGORIAN
METHOD:PUBLISH
UID:a28bc192-4c6c-4a5c-af50-e15123974294
X-WR-CALDESC:The Brookside St. Patrick’s Warm-up Parade is a family event f
 ocused on fun and the St. Patrick’s holiday.
X-WR-RELCALID:de5caa5ae35af9f738a590eafd941bb5
X-WR-TIMEZONE:America/Chicago
BEGIN:VTIMEZONE
TZID:America/Chicago
BEGIN:STANDARD
TZNAME:CST
DTSTART:20161106T020000
TZOFFSETFROM:-0500
TZOFFSETTO:-0600
RDATE:20171105T020000
END:STANDARD
BEGIN:DAYLIGHT
TZNAME:CDT
DTSTART:20160313T020000
TZOFFSETFROM:-0600
TZOFFSETTO:-0500
RDATE:20170312T020000
RDATE:20180311T020000
END:DAYLIGHT
END:VTIMEZONE
BEGIN:VEVENT
UID:d7fb1862-130a-43ad-8b7c-8c9bdf80d018
DTSTAMP:20260425T131930Z
DESCRIPTION:The Brookside St. Patrick’s Warm-up Parade is a family event fo
 cused on fun and the St. Patrick’s holiday.
DTSTART;TZID=America/Chicago:20170311T140000
DTEND;TZID=America/Chicago:20170311T150000
LOCATION:Brookside\, MO
SUMMARY:2017 Brookside 37th Annual St. Patrick's Warm-Up Parade
END:VEVENT
END:VCALENDAR
