BEGIN:VCALENDAR
VERSION:2.0
PRODID:-//www.mokangreyhounds.org//NONSGML kigkonsult.se iCalcreator 2.30.1
 0//
CALSCALE:GREGORIAN
METHOD:PUBLISH
UID:258c8b07-3486-4948-a95a-53a34a2e0169
X-WR-CALDESC:
X-WR-RELCALID:28fc5b997712125344469e6004336fcc
X-WR-TIMEZONE:America/Chicago
BEGIN:VTIMEZONE
TZID:America/Chicago
BEGIN:STANDARD
TZNAME:CST
DTSTART:20161106T020000
TZOFFSETFROM:-0500
TZOFFSETTO:-0600
RDATE:20171105T020000
END:STANDARD
BEGIN:DAYLIGHT
TZNAME:CDT
DTSTART:20170312T020000
TZOFFSETFROM:-0600
TZOFFSETTO:-0500
RDATE:20180311T020000
END:DAYLIGHT
END:VTIMEZONE
BEGIN:VEVENT
UID:7eebfb1c-366a-4ee8-9b6b-36566022bf2e
DTSTAMP:20260425T131609Z
DESCRIPTION:
DTSTART;TZID=America/Chicago:20170319T100000
DTEND;TZID=America/Chicago:20170319T170000
LOCATION:Kansas City Convention Center
SUMMARY:Greater Kansas City Home Show
END:VEVENT
END:VCALENDAR
