BEGIN:VCALENDAR
VERSION:2.0
PRODID:-//www.mokangreyhounds.org//NONSGML kigkonsult.se iCalcreator 2.30.1
 0//
CALSCALE:GREGORIAN
METHOD:PUBLISH
UID:9b499421-2116-4a98-88fc-5f6aac2b5ff3
X-WR-CALDESC:Join us for a hilarious and charitable night of HamBingo!  Eat
 \, drink\, laugh and help the Greyhounds.\n\nSign up to help as a voluntee
 r using the When to Help link below.
X-WR-RELCALID:255edcd62889cd23928d986b1289c4b7
X-WR-TIMEZONE:America/Chicago
BEGIN:VTIMEZONE
TZID:America/Chicago
BEGIN:STANDARD
TZNAME:CST
DTSTART:20161106T020000
TZOFFSETFROM:-0500
TZOFFSETTO:-0600
RDATE:20171105T020000
END:STANDARD
BEGIN:DAYLIGHT
TZNAME:CDT
DTSTART:20170312T020000
TZOFFSETFROM:-0600
TZOFFSETTO:-0500
RDATE:20180311T020000
END:DAYLIGHT
END:VTIMEZONE
BEGIN:VEVENT
UID:bbbc340f-99d8-40b6-823a-056987b11e00
DTSTAMP:20260425T125959Z
DESCRIPTION:Join us for a hilarious and charitable night of HamBingo!  Eat\
 , drink\, laugh and help the Greyhounds.\n\nSign up to help as a volunteer
  using the When to Help link below.
DTSTART;TZID=America/Chicago:20170322T190000
DTEND;TZID=America/Chicago:20170322T210000
LOCATION:Hamburger Mary's
SUMMARY:Charity HamBINGO!
END:VEVENT
END:VCALENDAR
