BEGIN:VCALENDAR
VERSION:2.0
PRODID:-//www.mokangreyhounds.org//NONSGML kigkonsult.se iCalcreator 2.30.1
 0//
CALSCALE:GREGORIAN
METHOD:PUBLISH
UID:47cb6eea-aeef-4caa-9d54-e6c4c28bbb43
X-WR-CALDESC:We will be at Jefferson Apartments in Liberty\, MO for their Y
 appy Hour! Come out and meet our pups!
X-WR-RELCALID:1ab95f13a261f966e678c59c2dc8788e
X-WR-TIMEZONE:America/Chicago
BEGIN:VTIMEZONE
TZID:America/Chicago
BEGIN:STANDARD
TZNAME:CST
DTSTART:20161106T020000
TZOFFSETFROM:-0500
TZOFFSETTO:-0600
RDATE:20171105T020000
END:STANDARD
BEGIN:DAYLIGHT
TZNAME:CDT
DTSTART:20170312T020000
TZOFFSETFROM:-0600
TZOFFSETTO:-0500
RDATE:20180311T020000
END:DAYLIGHT
END:VTIMEZONE
BEGIN:VEVENT
UID:394ca5e1-5a98-4913-aa32-93ea689be163
DTSTAMP:20260425T131733Z
DESCRIPTION:We will be at Jefferson Apartments in Liberty\, MO for their Ya
 ppy Hour! Come out and meet our pups!
DTSTART;TZID=America/Chicago:20170330T170000
DTEND;TZID=America/Chicago:20170330T190000
LOCATION:Jefferson Apartments 1220 Missouri Ct\, Liberty\, MO 64068
SUMMARY:Yappy Hour
END:VEVENT
END:VCALENDAR
