BEGIN:VCALENDAR
VERSION:2.0
PRODID:-//www.mokangreyhounds.org//NONSGML kigkonsult.se iCalcreator 2.30.1
 0//
CALSCALE:GREGORIAN
METHOD:PUBLISH
UID:214fc4ba-7851-4386-bd08-ed0cff7c8f77
X-WR-CALDESC:Join us in North Kansas City for an afternoon of napping and G
 reyhound hugs!
X-WR-RELCALID:9e5021b22102825b86fd712da3f0a01a
X-WR-TIMEZONE:America/Chicago
BEGIN:VTIMEZONE
TZID:America/Chicago
BEGIN:STANDARD
TZNAME:CST
DTSTART:20161106T020000
TZOFFSETFROM:-0500
TZOFFSETTO:-0600
RDATE:20171105T020000
END:STANDARD
BEGIN:DAYLIGHT
TZNAME:CDT
DTSTART:20170312T020000
TZOFFSETFROM:-0600
TZOFFSETTO:-0500
RDATE:20180311T020000
END:DAYLIGHT
END:VTIMEZONE
BEGIN:VEVENT
UID:17c03e8d-3884-40b0-85b5-c5419271a64d
DTSTAMP:20260425T111807Z
DESCRIPTION:Join us in North Kansas City for an afternoon of napping and Gr
 eyhound hugs!
DTSTART;TZID=America/Chicago:20170408T110000
DTEND;TZID=America/Chicago:20170408T150000
LOCATION:Miles of Exotics 8350 N Broadway\, Kansas City\, MO 64118
SUMMARY:Adoption Event - Miles of Exotics
END:VEVENT
END:VCALENDAR
