BEGIN:VCALENDAR
VERSION:2.0
PRODID:-//www.mokangreyhounds.org//NONSGML kigkonsult.se iCalcreator 2.30.1
 0//
CALSCALE:GREGORIAN
METHOD:PUBLISH
UID:66417839-3b38-4251-9985-027ef63944d8
X-WR-CALDESC:Join us in Olathe for some Greyhound love at Tractor Supply Co
 mpany!
X-WR-RELCALID:101eaf06ef73f58afeb5e42753259901
X-WR-TIMEZONE:America/Chicago
BEGIN:VTIMEZONE
TZID:America/Chicago
BEGIN:STANDARD
TZNAME:CST
DTSTART:20161106T020000
TZOFFSETFROM:-0500
TZOFFSETTO:-0600
RDATE:20171105T020000
END:STANDARD
BEGIN:DAYLIGHT
TZNAME:CDT
DTSTART:20170312T020000
TZOFFSETFROM:-0600
TZOFFSETTO:-0500
RDATE:20180311T020000
END:DAYLIGHT
END:VTIMEZONE
BEGIN:VEVENT
UID:b785dc5f-639c-42e1-9ffd-2b1157f2992c
DTSTAMP:20260425T112055Z
DESCRIPTION:Join us in Olathe for some Greyhound love at Tractor Supply Com
 pany!
DTSTART;TZID=America/Chicago:20170408T110000
DTEND;TZID=America/Chicago:20170408T150000
LOCATION:Tractor Supply Company 15945 South Us 169 Hwy\, Olathe\, KS 66062
SUMMARY:Adoption Event - Tractor Supply Company
END:VEVENT
END:VCALENDAR
