BEGIN:VCALENDAR
VERSION:2.0
PRODID:-//www.mokangreyhounds.org//NONSGML kigkonsult.se iCalcreator 2.30.1
 0//
CALSCALE:GREGORIAN
METHOD:PUBLISH
UID:aaee73d5-9aea-49b0-9a49-13273ea09ce8
X-WR-CALDESC:Come spend the afternoon with us at Three Dog Bakery in Leawoo
 d\, KS and get some Greyhound love!
X-WR-RELCALID:1fbc8adb306f8a05f08015cfea607556
X-WR-TIMEZONE:America/Chicago
BEGIN:VTIMEZONE
TZID:America/Chicago
BEGIN:STANDARD
TZNAME:CST
DTSTART:20161106T020000
TZOFFSETFROM:-0500
TZOFFSETTO:-0600
RDATE:20171105T020000
END:STANDARD
BEGIN:DAYLIGHT
TZNAME:CDT
DTSTART:20170312T020000
TZOFFSETFROM:-0600
TZOFFSETTO:-0500
RDATE:20180311T020000
END:DAYLIGHT
END:VTIMEZONE
BEGIN:VEVENT
UID:55760ec1-9734-47c3-b6ce-5c9bdcabaa88
DTSTAMP:20260425T111846Z
DESCRIPTION:Come spend the afternoon with us at Three Dog Bakery in Leawood
 \, KS and get some Greyhound love!
DTSTART;TZID=America/Chicago:20170422T110000
DTEND;TZID=America/Chicago:20170422T150000
LOCATION:Three Dog Bakery 4322 W 119th St\, Leawood\, KS 66209
SUMMARY:Three Dog Bakery - Leawood\, KS
END:VEVENT
END:VCALENDAR
