BEGIN:VCALENDAR
VERSION:2.0
PRODID:-//www.mokangreyhounds.org//NONSGML kigkonsult.se iCalcreator 2.30.1
 0//
CALSCALE:GREGORIAN
METHOD:PUBLISH
UID:1ecee026-4d02-464a-8556-936d3c2b1ca7
X-WR-CALDESC:Join us for a family fun event at the YMCA Healthy Kids Day in
  Cameron\, MO!\n\nVolunteers can sign up at www.whentohelp.com
X-WR-RELCALID:b1471f54ba1af46709abe7e395b448d4
X-WR-TIMEZONE:America/Chicago
BEGIN:VTIMEZONE
TZID:America/Chicago
BEGIN:STANDARD
TZNAME:CST
DTSTART:20161106T020000
TZOFFSETFROM:-0500
TZOFFSETTO:-0600
RDATE:20171105T020000
END:STANDARD
BEGIN:DAYLIGHT
TZNAME:CDT
DTSTART:20170312T020000
TZOFFSETFROM:-0600
TZOFFSETTO:-0500
RDATE:20180311T020000
END:DAYLIGHT
END:VTIMEZONE
BEGIN:VEVENT
UID:eb5a4438-ceed-441b-ae2e-966931afd077
DTSTAMP:20260425T111725Z
DESCRIPTION:Join us for a family fun event at the YMCA Healthy Kids Day in 
 Cameron\, MO!\n\nVolunteers can sign up at www.whentohelp.com
DTSTART;TZID=America/Chicago:20170422T130000
DTEND;TZID=America/Chicago:20170422T150000
LOCATION:Cameron Regional YMCA 1903 N Walnut St Cameron\, MO 64429
SUMMARY:YMCA Healthy Kids Day
END:VEVENT
END:VCALENDAR
