BEGIN:VCALENDAR
VERSION:2.0
PRODID:-//www.mokangreyhounds.org//NONSGML kigkonsult.se iCalcreator 2.30.1
 0//
CALSCALE:GREGORIAN
METHOD:PUBLISH
UID:2d445b14-bae6-4751-acb0-a40c208cb23d
X-WR-CALDESC:Join us for some Greyhound love at the Tails on the Trails in 
 Lenexa\, KS!
X-WR-RELCALID:d526627382ecfa252f74b58034886b2a
X-WR-TIMEZONE:America/Chicago
BEGIN:VTIMEZONE
TZID:America/Chicago
BEGIN:STANDARD
TZNAME:CST
DTSTART:20161106T020000
TZOFFSETFROM:-0500
TZOFFSETTO:-0600
RDATE:20171105T020000
RDATE:20181104T020000
END:STANDARD
BEGIN:DAYLIGHT
TZNAME:CDT
DTSTART:20170312T020000
TZOFFSETFROM:-0600
TZOFFSETTO:-0500
RDATE:20180311T020000
END:DAYLIGHT
END:VTIMEZONE
BEGIN:VEVENT
UID:ebe31368-e11e-4c52-94a4-ce217c4de41e
DTSTAMP:20260425T035148Z
DESCRIPTION:Join us for some Greyhound love at the Tails on the Trails in L
 enexa\, KS!
DTSTART;TZID=America/Chicago:20170812T090000
DTEND;TZID=America/Chicago:20170812T130000
LOCATION:8265 Maurer Rd\, Lenexa\, KS 66219
SUMMARY:Tails on the Trails - Lenexa\, KS
END:VEVENT
END:VCALENDAR
