BEGIN:VCALENDAR
VERSION:2.0
PRODID:-//www.mokangreyhounds.org//NONSGML kigkonsult.se iCalcreator 2.30.1
 0//
CALSCALE:GREGORIAN
METHOD:PUBLISH
UID:daa20790-3091-44ba-8589-1d96226798bc
X-WR-CALDESC:Join us at the Independence\, MO Petco for Greyhound hugs and 
 naps!\n\nVolunteers can sign up at www.whentohelp.com
X-WR-RELCALID:435284a57409aac55ef755f66ccefe76
X-WR-TIMEZONE:America/Chicago
BEGIN:VTIMEZONE
TZID:America/Chicago
BEGIN:STANDARD
TZNAME:CST
DTSTART:20161106T020000
TZOFFSETFROM:-0500
TZOFFSETTO:-0600
RDATE:20171105T020000
RDATE:20181104T020000
END:STANDARD
BEGIN:DAYLIGHT
TZNAME:CDT
DTSTART:20170312T020000
TZOFFSETFROM:-0600
TZOFFSETTO:-0500
RDATE:20180311T020000
END:DAYLIGHT
END:VTIMEZONE
BEGIN:VEVENT
UID:95bd8903-8e31-4d03-8bd1-6cae1ad8de03
DTSTAMP:20260425T034832Z
DESCRIPTION:Join us at the Independence\, MO Petco for Greyhound hugs and n
 aps!\n\nVolunteers can sign up at www.whentohelp.com
DTSTART;TZID=America/Chicago:20170819T110000
DTEND;TZID=America/Chicago:20170819T150000
LOCATION:Independence Petco\, 4201 S Noland Rd\, Ste #L-1\, Independence\, 
 MO 64055
SUMMARY:Adoption Event - Independence Petco
END:VEVENT
END:VCALENDAR
