BEGIN:VCALENDAR
VERSION:2.0
PRODID:-//www.mokangreyhounds.org//NONSGML kigkonsult.se iCalcreator 2.30.1
 0//
CALSCALE:GREGORIAN
METHOD:PUBLISH
UID:770ebfe4-254c-4847-bded-23b47de1dce5
X-WR-CALDESC:Join us for some Greyhound love at the Jim Allen Aquatic Cente
 r for the K's at the Cove event!
X-WR-RELCALID:6766d0c504d8036eef55ed9644529509
X-WR-TIMEZONE:America/Chicago
BEGIN:VTIMEZONE
TZID:America/Chicago
BEGIN:STANDARD
TZNAME:CST
DTSTART:20161106T020000
TZOFFSETFROM:-0500
TZOFFSETTO:-0600
RDATE:20171105T020000
RDATE:20181104T020000
END:STANDARD
BEGIN:DAYLIGHT
TZNAME:CDT
DTSTART:20170312T020000
TZOFFSETFROM:-0600
TZOFFSETTO:-0500
RDATE:20180311T020000
END:DAYLIGHT
END:VTIMEZONE
BEGIN:VEVENT
UID:29e0db42-ebaa-45be-ad67-79ed6a76bdf4
DTSTAMP:20260425T033953Z
DESCRIPTION:Join us for some Greyhound love at the Jim Allen Aquatic Center
  for the K's at the Cove event!
DTSTART;TZID=America/Chicago:20170819T081500
DTEND;TZID=America/Chicago:20170819T110000
LOCATION:Splash Cove - Jim Allen Aquatic Center - 5800 King Ave Shawnee\, K
 S 66203
SUMMARY:K9's at the Cove - Shawnee\, KS
END:VEVENT
END:VCALENDAR
