BEGIN:VCALENDAR
VERSION:2.0
PRODID:-//www.mokangreyhounds.org//NONSGML kigkonsult.se iCalcreator 2.30.1
 0//
CALSCALE:GREGORIAN
METHOD:PUBLISH
UID:4334d91f-85a6-4138-8ba4-b46e1acab75b
X-WR-CALDESC:Come and get some Greyhound love at this great afternoon outsi
 de event! \n\nBring your pooch out to support Megan's Paws & Claws - Smith
 ville Dog Pound in our Pet's Day Out Wag'n'Walk event on September 30\, 20
 17 at 10am! This is a mile 'fun run'\, walking only event\, around Heritag
 e Park trail\, and into downtown and back. With a $15.00 donation entry fe
 e\, you will receive a t-shirt commemorating the days festivities and some
  good exercise for you and your pooch! Don't you worry though\, local busi
 nesses on the square plan on having water stations and treats out for your
  dog! At the end of the race\, enjoy the rest of your day at Pet's Day Out
 ! So\, bring the kiddos and Fido to Pet's Day Out Wag'n'Walk!
X-WR-RELCALID:be40664b9164beac4bbb39a06429b894
X-WR-TIMEZONE:America/Chicago
BEGIN:VTIMEZONE
TZID:America/Chicago
BEGIN:STANDARD
TZNAME:CST
DTSTART:20161106T020000
TZOFFSETFROM:-0500
TZOFFSETTO:-0600
RDATE:20171105T020000
RDATE:20181104T020000
END:STANDARD
BEGIN:DAYLIGHT
TZNAME:CDT
DTSTART:20170312T020000
TZOFFSETFROM:-0600
TZOFFSETTO:-0500
RDATE:20180311T020000
RDATE:20190310T020000
END:DAYLIGHT
END:VTIMEZONE
BEGIN:VEVENT
UID:1f70f420-2767-49d9-88b0-b479df2cf167
DTSTAMP:20260425T012955Z
DESCRIPTION:Come and get some Greyhound love at this great afternoon outsid
 e event! \n\nBring your pooch out to support Megan's Paws & Claws - Smithv
 ille Dog Pound in our Pet's Day Out Wag'n'Walk event on September 30\, 201
 7 at 10am! This is a mile 'fun run'\, walking only event\, around Heritage
  Park trail\, and into downtown and back. With a $15.00 donation entry fee
 \, you will receive a t-shirt commemorating the days festivities and some 
 good exercise for you and your pooch! Don't you worry though\, local busin
 esses on the square plan on having water stations and treats out for your 
 dog! At the end of the race\, enjoy the rest of your day at Pet's Day Out!
  So\, bring the kiddos and Fido to Pet's Day Out Wag'n'Walk!
DTSTART;TZID=America/Chicago:20170930T100000
DTEND;TZID=America/Chicago:20170930T140000
LOCATION:Heritage Park 320 E Main St Smithville\, MO 64089
SUMMARY:Pet's Day Out - Smithville\, MO
END:VEVENT
END:VCALENDAR
