BEGIN:VCALENDAR
VERSION:2.0
PRODID:-//www.mokangreyhounds.org//NONSGML kigkonsult.se iCalcreator 2.30.1
 0//
CALSCALE:GREGORIAN
METHOD:PUBLISH
UID:0f7d440c-0be4-4503-8a37-ae2d1b535ad2
X-WR-CALDESC:Join us at the 2nd Annual Barktober Fest for a day of music\, 
 vendors and family fun!\n\nVolunteers can sign up at www.whentohelp.com
X-WR-RELCALID:58b85741e2b179cfa66c3d177efeb244
X-WR-TIMEZONE:America/Chicago
BEGIN:VTIMEZONE
TZID:America/Chicago
BEGIN:STANDARD
TZNAME:CST
DTSTART:20161106T020000
TZOFFSETFROM:-0500
TZOFFSETTO:-0600
RDATE:20171105T020000
RDATE:20181104T020000
END:STANDARD
BEGIN:DAYLIGHT
TZNAME:CDT
DTSTART:20170312T020000
TZOFFSETFROM:-0600
TZOFFSETTO:-0500
RDATE:20180311T020000
RDATE:20190310T020000
END:DAYLIGHT
END:VTIMEZONE
BEGIN:VEVENT
UID:96d64239-ffd2-4cba-8e33-6314571b4d80
DTSTAMP:20260424T231239Z
DESCRIPTION:Join us at the 2nd Annual Barktober Fest for a day of music\, v
 endors and family fun!\n\nVolunteers can sign up at www.whentohelp.com
DTSTART;TZID=America/Chicago:20171007T100000
DTEND;TZID=America/Chicago:20171007T180000
LOCATION:Shawnee Mission Theater in the Park\, 7710 Renner Rd\, Shawnee\, K
 S 66217
SUMMARY:Barktober Fest
END:VEVENT
END:VCALENDAR
