BEGIN:VCALENDAR
VERSION:2.0
PRODID:-//www.mokangreyhounds.org//NONSGML kigkonsult.se iCalcreator 2.30.1
 0//
CALSCALE:GREGORIAN
METHOD:PUBLISH
UID:c6ecf83b-5e07-4e81-9f96-319e28356e4b
X-WR-CALDESC:Come and join us for a fun afternoon of Greyhound love!
X-WR-RELCALID:834c0ec33466c368e7d4d69e2781355b
X-WR-TIMEZONE:America/Chicago
BEGIN:VTIMEZONE
TZID:America/Chicago
BEGIN:STANDARD
TZNAME:CST
DTSTART:20161106T020000
TZOFFSETFROM:-0500
TZOFFSETTO:-0600
RDATE:20171105T020000
RDATE:20181104T020000
END:STANDARD
BEGIN:DAYLIGHT
TZNAME:CDT
DTSTART:20170312T020000
TZOFFSETFROM:-0600
TZOFFSETTO:-0500
RDATE:20180311T020000
RDATE:20190310T020000
END:DAYLIGHT
END:VTIMEZONE
BEGIN:VEVENT
UID:91023405-dfeb-4e3a-bd1d-967a9a4bce5a
DTSTAMP:20260424T232823Z
DESCRIPTION:Come and join us for a fun afternoon of Greyhound love!
DTSTART;TZID=America/Chicago:20171021T110000
DTEND;TZID=America/Chicago:20171021T150000
LOCATION:14909 W 119th St\, Olathe\, KS 66062
SUMMARY:Bentley's Pet Stuff - Olathe\, KS
END:VEVENT
END:VCALENDAR
