BEGIN:VCALENDAR
VERSION:2.0
PRODID:-//www.mokangreyhounds.org//NONSGML kigkonsult.se iCalcreator 2.30.1
 0//
CALSCALE:GREGORIAN
METHOD:PUBLISH
UID:e1c67fa2-5bb7-4544-b1d9-3f5ed79ce9a9
X-WR-CALDESC:FREE ADMISSION\, with dog food donation.\nFOOD DRIVE: Benefits
  local animal shelters\nGAMES: Sack Races • Bobbing for Biscuits • Musical
  Disks\nCONTESTS: Best Biscuit Eater • Best Tail Wagger • Costume Contest 
 • Dog/Owner Look-Alikes • Best Kisser • Best Trick\nDEMONSTRATIONS: Search
  & Rescue • Carting • Police Dogs • Service Dogs • Herding Dogs\nMATCHES/T
 ESTS/WORKSHOPS: Agility • Obedience • Rally • Canine Good Citizen • Dock D
 iving • Weave Pole Races • Frisbee\nBOOTHS: Rescue Groups • Boarding • Ado
 pt-A-Pet • Pet Supplies • Pet Sitters
X-WR-RELCALID:f9c17880e266c5a8bd3666ba14650f40
X-WR-TIMEZONE:America/Chicago
BEGIN:VTIMEZONE
TZID:America/Chicago
BEGIN:STANDARD
TZNAME:CST
DTSTART:20161106T020000
TZOFFSETFROM:-0500
TZOFFSETTO:-0600
RDATE:20171105T020000
RDATE:20181104T020000
END:STANDARD
BEGIN:DAYLIGHT
TZNAME:CDT
DTSTART:20170312T020000
TZOFFSETFROM:-0600
TZOFFSETTO:-0500
RDATE:20180311T020000
RDATE:20190310T020000
END:DAYLIGHT
END:VTIMEZONE
BEGIN:VEVENT
UID:e9db2b1e-2ba5-4c95-8dbf-bac224709631
DTSTAMP:20260424T230728Z
DESCRIPTION:FREE ADMISSION\, with dog food donation.\nFOOD DRIVE: Benefits 
 local animal shelters\nGAMES: Sack Races • Bobbing for Biscuits • Musical 
 Disks\nCONTESTS: Best Biscuit Eater • Best Tail Wagger • Costume Contest •
  Dog/Owner Look-Alikes • Best Kisser • Best Trick\nDEMONSTRATIONS: Search 
 & Rescue • Carting • Police Dogs • Service Dogs • Herding Dogs\nMATCHES/TE
 STS/WORKSHOPS: Agility • Obedience • Rally • Canine Good Citizen • Dock Di
 ving • Weave Pole Races • Frisbee\nBOOTHS: Rescue Groups • Boarding • Adop
 t-A-Pet • Pet Supplies • Pet Sitters
DTSTART;TZID=America/Chicago:20171029T100000
DTEND;TZID=America/Chicago:20171029T160000
LOCATION:Kemper Outdoor Educational Center\, 8201 S Jasper Bell Rd\, Blue S
 prings\, MO 64015
SUMMARY:RESCHEDULED - Dogtober Fest
END:VEVENT
END:VCALENDAR
