BEGIN:VCALENDAR
VERSION:2.0
PRODID:-//www.mokangreyhounds.org//NONSGML kigkonsult.se iCalcreator 2.30.1
 0//
CALSCALE:GREGORIAN
METHOD:PUBLISH
UID:bba419ae-6f70-49ab-8e78-aa6323d09df7
X-WR-CALDESC:Join us at Four Paws Pantry for a day of Greyhound hugs and na
 ps!\n\nVolunteers can sign up for a shift at www.whentohelp.com
X-WR-RELCALID:0f58bcd89d092576b434a951de9be3ab
X-WR-TIMEZONE:America/Chicago
BEGIN:VTIMEZONE
TZID:America/Chicago
BEGIN:STANDARD
TZNAME:CST
DTSTART:20161106T020000
TZOFFSETFROM:-0500
TZOFFSETTO:-0600
RDATE:20171105T020000
RDATE:20181104T020000
END:STANDARD
BEGIN:DAYLIGHT
TZNAME:CDT
DTSTART:20170312T020000
TZOFFSETFROM:-0600
TZOFFSETTO:-0500
RDATE:20180311T020000
RDATE:20190310T020000
END:DAYLIGHT
END:VTIMEZONE
BEGIN:VEVENT
UID:5c441074-b10a-4783-b150-c14d119db648
DTSTAMP:20260424T212146Z
DESCRIPTION:Join us at Four Paws Pantry for a day of Greyhound hugs and nap
 s!\n\nVolunteers can sign up for a shift at www.whentohelp.com
DTSTART;TZID=America/Chicago:20171104T110000
DTEND;TZID=America/Chicago:20171104T150000
LOCATION:Four Paws Pantry & Spa\, 14040 W 119th St\, Olathe\, KS 66062
SUMMARY:Adoption Event - Four Paws Pantry
END:VEVENT
END:VCALENDAR
