BEGIN:VCALENDAR
VERSION:2.0
PRODID:-//www.mokangreyhounds.org//NONSGML kigkonsult.se iCalcreator 2.30.1
 0//
CALSCALE:GREGORIAN
METHOD:PUBLISH
UID:30f51fe1-2327-4a8c-a86f-22078162231a
X-WR-CALDESC:Come and meet our sweet pups and get some Greyhound love!
X-WR-RELCALID:1f23a71f905f90114ca7ec5fc225a576
X-WR-TIMEZONE:America/Chicago
BEGIN:VTIMEZONE
TZID:America/Chicago
BEGIN:STANDARD
TZNAME:CST
DTSTART:20161106T020000
TZOFFSETFROM:-0500
TZOFFSETTO:-0600
RDATE:20171105T020000
RDATE:20181104T020000
END:STANDARD
BEGIN:DAYLIGHT
TZNAME:CDT
DTSTART:20170312T020000
TZOFFSETFROM:-0600
TZOFFSETTO:-0500
RDATE:20180311T020000
RDATE:20190310T020000
END:DAYLIGHT
END:VTIMEZONE
BEGIN:VEVENT
UID:dd6f9931-b0d2-440a-8f28-b1f9c7d8fac0
DTSTAMP:20260424T212359Z
DESCRIPTION:Come and meet our sweet pups and get some Greyhound love!
DTSTART;TZID=America/Chicago:20171104T110000
DTEND;TZID=America/Chicago:20171104T150000
LOCATION:233 S Stewart Rd\, Liberty\, MO 64068
SUMMARY:Petco - Liberty\, MO
END:VEVENT
END:VCALENDAR
