BEGIN:VCALENDAR
VERSION:2.0
PRODID:-//www.mokangreyhounds.org//NONSGML kigkonsult.se iCalcreator 2.30.1
 0//
CALSCALE:GREGORIAN
METHOD:PUBLISH
UID:8380aa71-dd9f-485b-86f1-384c0678754c
X-WR-CALDESC:MoKan Greyhound Adoption would like to invite you to our 2017 
 Holiday Photos Event on Sunday\, November 12th! \n\n To make your appointm
 ent: e-mail Amanda at amanda@mokangreyhounds.org. Appointments start at 11
 :00am and will be scheduled every 20 min\, last appointment of the day wil
 l be at 3:00pm.\n Limited number of slots\, so book yours today!!\n\n Who:
  Anyone is welcome. Dogs\, kids\, families.\n\n You will get: 10-12 digita
 l images delivered to you in 2 weeks.\n\n Where: Bluepearl in Overland Par
 k\, KS\, off 110th and Quivira Rd\, Please use the north side of the parki
 ng lot or the back lot. We will have you come in the back door of the buil
 ding so we are not interrupting Bluepearl's ER services. \n\n When: Sunday
 \, Nov 12th\, from 11:00am-3:20pm\, by appointment only. Please arrive a f
 ew minutes prior to your appointment time\, and we ask that when your sess
 ion is done you and your pups step away from the photo area so that the ne
 xt appointment can get started.\n\n Cost: $25 donation to MoKan Greyhound 
 Adoption.\n\nKid Friendly
X-WR-RELCALID:c945cfa95f4b37934ca43e859e7867dd
X-WR-TIMEZONE:America/Chicago
BEGIN:VTIMEZONE
TZID:America/Chicago
BEGIN:STANDARD
TZNAME:CST
DTSTART:20171105T020000
TZOFFSETFROM:-0500
TZOFFSETTO:-0600
RDATE:20181104T020000
END:STANDARD
BEGIN:DAYLIGHT
TZNAME:CDT
DTSTART:20170312T020000
TZOFFSETFROM:-0600
TZOFFSETTO:-0500
RDATE:20180311T020000
RDATE:20190310T020000
END:DAYLIGHT
END:VTIMEZONE
BEGIN:VEVENT
UID:e64b36d1-6867-4396-b9d5-e25cf82b263c
DTSTAMP:20260424T212358Z
DESCRIPTION:MoKan Greyhound Adoption would like to invite you to our 2017 H
 oliday Photos Event on Sunday\, November 12th! \n\n To make your appointme
 nt: e-mail Amanda at amanda@mokangreyhounds.org. Appointments start at 11:
 00am and will be scheduled every 20 min\, last appointment of the day will
  be at 3:00pm.\n Limited number of slots\, so book yours today!!\n\n Who: 
 Anyone is welcome. Dogs\, kids\, families.\n\n You will get: 10-12 digital
  images delivered to you in 2 weeks.\n\n Where: Bluepearl in Overland Park
 \, KS\, off 110th and Quivira Rd\, Please use the north side of the parkin
 g lot or the back lot. We will have you come in the back door of the build
 ing so we are not interrupting Bluepearl's ER services. \n\n When: Sunday\
 , Nov 12th\, from 11:00am-3:20pm\, by appointment only. Please arrive a fe
 w minutes prior to your appointment time\, and we ask that when your sessi
 on is done you and your pups step away from the photo area so that the nex
 t appointment can get started.\n\n Cost: $25 donation to MoKan Greyhound A
 doption.\n\nKid Friendly
DTSTART;TZID=America/Chicago:20171112T110000
DTEND;TZID=America/Chicago:20171112T152000
LOCATION:Blue Pearl Veterinary Center 11950 W 110th St\, Overland Park\, Ka
 nsas 66210
SUMMARY:Holiday Pictures
END:VEVENT
END:VCALENDAR
