BEGIN:VCALENDAR
VERSION:2.0
PRODID:-//www.mokangreyhounds.org//NONSGML kigkonsult.se iCalcreator 2.30.1
 0//
CALSCALE:GREGORIAN
METHOD:PUBLISH
UID:6d8fea55-677c-41b4-9140-6c14aa63a169
X-WR-CALDESC:Join us for some Greyhound love at Tractor Supply Company!
X-WR-RELCALID:4cb39f17cc14f3f49ca68bb14e8791e4
X-WR-TIMEZONE:America/Chicago
BEGIN:VTIMEZONE
TZID:America/Chicago
BEGIN:STANDARD
TZNAME:CST
DTSTART:20171105T020000
TZOFFSETFROM:-0500
TZOFFSETTO:-0600
RDATE:20181104T020000
END:STANDARD
BEGIN:DAYLIGHT
TZNAME:CDT
DTSTART:20170312T020000
TZOFFSETFROM:-0600
TZOFFSETTO:-0500
RDATE:20180311T020000
RDATE:20190310T020000
END:DAYLIGHT
END:VTIMEZONE
BEGIN:VEVENT
UID:fe2b50b8-4d7e-49d9-9234-91784ca0fae6
DTSTAMP:20260424T211422Z
DESCRIPTION:Join us for some Greyhound love at Tractor Supply Company!
DTSTART;TZID=America/Chicago:20171118T110000
DTEND;TZID=America/Chicago:20171118T150000
LOCATION:2210 South State Rte 291 Hwy\, Independence\, MO 64057
SUMMARY:Adoption Event - Tractor Supply Company
END:VEVENT
END:VCALENDAR
