BEGIN:VCALENDAR
VERSION:2.0
PRODID:-//www.mokangreyhounds.org//NONSGML kigkonsult.se iCalcreator 2.30.1
 0//
CALSCALE:GREGORIAN
METHOD:PUBLISH
UID:e4585bba-6e35-4b7b-a53c-c8cc795bb58c
X-WR-CALDESC:Come spend the afternoon with us at Three Dog Bakery in Leawoo
 d\, KS and get some Greyhound love!
X-WR-RELCALID:b885f007baf1992845907a97d359f32b
X-WR-TIMEZONE:America/Chicago
BEGIN:VTIMEZONE
TZID:America/Chicago
BEGIN:STANDARD
TZNAME:CST
DTSTART:20171105T020000
TZOFFSETFROM:-0500
TZOFFSETTO:-0600
RDATE:20181104T020000
END:STANDARD
BEGIN:DAYLIGHT
TZNAME:CDT
DTSTART:20170312T020000
TZOFFSETFROM:-0600
TZOFFSETTO:-0500
RDATE:20180311T020000
RDATE:20190310T020000
END:DAYLIGHT
END:VTIMEZONE
BEGIN:VEVENT
UID:b375f979-2995-4586-a27d-b03345eb2528
DTSTAMP:20260424T211915Z
DESCRIPTION:Come spend the afternoon with us at Three Dog Bakery in Leawood
 \, KS and get some Greyhound love!
DTSTART;TZID=America/Chicago:20171118T110000
DTEND;TZID=America/Chicago:20171118T150000
LOCATION:Three Dog Bakery 4322 W 119th St\, Leawood\, KS 66209
SUMMARY:Three Dog Bakery - Leawood\, KS
END:VEVENT
END:VCALENDAR
