BEGIN:VCALENDAR
VERSION:2.0
PRODID:-//www.mokangreyhounds.org//NONSGML kigkonsult.se iCalcreator 2.30.1
 0//
CALSCALE:GREGORIAN
METHOD:PUBLISH
UID:add525aa-39f1-433d-a11b-dffe71adcb6d
X-WR-CALDESC:Join us in North Kansas City for an afternoon of napping and G
 reyhound hugs!
X-WR-RELCALID:69ce529fe4cb65703ef8ab5d95931daf
X-WR-TIMEZONE:America/Chicago
BEGIN:VTIMEZONE
TZID:America/Chicago
BEGIN:STANDARD
TZNAME:CST
DTSTART:20171105T020000
TZOFFSETFROM:-0500
TZOFFSETTO:-0600
RDATE:20181104T020000
END:STANDARD
BEGIN:DAYLIGHT
TZNAME:CDT
DTSTART:20170312T020000
TZOFFSETFROM:-0600
TZOFFSETTO:-0500
RDATE:20180311T020000
RDATE:20190310T020000
END:DAYLIGHT
END:VTIMEZONE
BEGIN:VEVENT
UID:90a983a3-6c7f-42df-b111-64caee103a7a
DTSTAMP:20260424T185302Z
DESCRIPTION:Join us in North Kansas City for an afternoon of napping and Gr
 eyhound hugs!
DTSTART;TZID=America/Chicago:20171202T110000
DTEND;TZID=America/Chicago:20171202T150000
LOCATION:Miles of Exotics 8350 N Broadway\, Kansas City\, MO 64118
SUMMARY:Adoption Event - Miles of Exotics
END:VEVENT
END:VCALENDAR
