BEGIN:VCALENDAR
VERSION:2.0
PRODID:-//www.mokangreyhounds.org//NONSGML kigkonsult.se iCalcreator 2.30.1
 0//
CALSCALE:GREGORIAN
METHOD:PUBLISH
UID:41e2037a-925f-4201-bc15-fe4e8c8f33cd
X-WR-CALDESC:Join us in Olathe for some Greyhound love at Tractor Supply Co
 mpany!
X-WR-RELCALID:58f1c50de8e43083f78c859376b478ee
X-WR-TIMEZONE:America/Chicago
BEGIN:VTIMEZONE
TZID:America/Chicago
BEGIN:STANDARD
TZNAME:CST
DTSTART:20171105T020000
TZOFFSETFROM:-0500
TZOFFSETTO:-0600
RDATE:20181104T020000
END:STANDARD
BEGIN:DAYLIGHT
TZNAME:CDT
DTSTART:20170312T020000
TZOFFSETFROM:-0600
TZOFFSETTO:-0500
RDATE:20180311T020000
RDATE:20190310T020000
END:DAYLIGHT
END:VTIMEZONE
BEGIN:VEVENT
UID:9f4d6ee2-0667-4ed1-bf8d-13d29f553cc5
DTSTAMP:20260424T190009Z
DESCRIPTION:Join us in Olathe for some Greyhound love at Tractor Supply Com
 pany!
DTSTART;TZID=America/Chicago:20171202T110000
DTEND;TZID=America/Chicago:20171202T150000
LOCATION:Tractor Supply Company 15945 South Us 169 Hwy\, Olathe\, KS 66062
SUMMARY:Adoption Event - Tractor Supply Company
END:VEVENT
END:VCALENDAR
