BEGIN:VCALENDAR
VERSION:2.0
PRODID:-//www.mokangreyhounds.org//NONSGML kigkonsult.se iCalcreator 2.30.1
 0//
CALSCALE:GREGORIAN
METHOD:PUBLISH
UID:0d8d7bca-4457-40fc-b89c-5486fab0ece3
X-WR-CALDESC:Come and join us for a fun afternoon of Greyhound love!
X-WR-RELCALID:89f4b359c967446366fd07aebda8acf6
X-WR-TIMEZONE:America/Chicago
BEGIN:VTIMEZONE
TZID:America/Chicago
BEGIN:STANDARD
TZNAME:CST
DTSTART:20171105T020000
TZOFFSETFROM:-0500
TZOFFSETTO:-0600
RDATE:20181104T020000
END:STANDARD
BEGIN:DAYLIGHT
TZNAME:CDT
DTSTART:20170312T020000
TZOFFSETFROM:-0600
TZOFFSETTO:-0500
RDATE:20180311T020000
RDATE:20190310T020000
END:DAYLIGHT
END:VTIMEZONE
BEGIN:VEVENT
UID:9e6aa9e6-04be-49ee-9e60-4b87cd0905ac
DTSTAMP:20260424T190133Z
DESCRIPTION:Come and join us for a fun afternoon of Greyhound love!
DTSTART;TZID=America/Chicago:20171216T110000
DTEND;TZID=America/Chicago:20171216T150000
LOCATION:8752 NE 82nd Terrace\, Kansas City\, MO 64158
SUMMARY:Bentley's Pet Stuff - Kansas City\, MO
END:VEVENT
END:VCALENDAR
