BEGIN:VCALENDAR
VERSION:2.0
PRODID:-//www.mokangreyhounds.org//NONSGML kigkonsult.se iCalcreator 2.30.1
 0//
CALSCALE:GREGORIAN
METHOD:PUBLISH
UID:d0c8ddc7-1288-4e2a-9102-4f0b8ebc3864
X-WR-CALDESC:Come and join us for a fun afternoon of Greyhound love!
X-WR-RELCALID:3b020bf38dc05d2227f3c2ca75fbdd79
X-WR-TIMEZONE:America/Chicago
BEGIN:VTIMEZONE
TZID:America/Chicago
BEGIN:STANDARD
TZNAME:CST
DTSTART:20171105T020000
TZOFFSETFROM:-0500
TZOFFSETTO:-0600
RDATE:20181104T020000
END:STANDARD
BEGIN:DAYLIGHT
TZNAME:CDT
DTSTART:20170312T020000
TZOFFSETFROM:-0600
TZOFFSETTO:-0500
RDATE:20180311T020000
RDATE:20190310T020000
END:DAYLIGHT
END:VTIMEZONE
BEGIN:VEVENT
UID:826bc958-8dcf-4403-a6d9-511d0597bb36
DTSTAMP:20260424T190009Z
DESCRIPTION:Come and join us for a fun afternoon of Greyhound love!
DTSTART;TZID=America/Chicago:20171216T110000
DTEND;TZID=America/Chicago:20171216T150000
LOCATION:6555 W. 119th Street Overland Park\, KS 66209
SUMMARY:Bentley's Pet Stuff - Overland Park\, KS
END:VEVENT
END:VCALENDAR
