BEGIN:VCALENDAR
VERSION:2.0
PRODID:-//www.mokangreyhounds.org//NONSGML kigkonsult.se iCalcreator 2.30.1
 0//
CALSCALE:GREGORIAN
METHOD:PUBLISH
UID:f43dc195-fd66-4ebb-a495-4fc0827c6516
X-WR-CALDESC:Join us for a hilarious and charitable night of HamBingo!  Eat
 \, drink\, laugh and help the Greyhounds.\n\nSign up to help as a voluntee
 r using the When to Help link below.
X-WR-RELCALID:bd4b00a5f51316a001fa386bef1cebc1
X-WR-TIMEZONE:America/Chicago
BEGIN:VTIMEZONE
TZID:America/Chicago
BEGIN:STANDARD
TZNAME:CST
DTSTART:20171105T020000
TZOFFSETFROM:-0500
TZOFFSETTO:-0600
RDATE:20181104T020000
END:STANDARD
BEGIN:DAYLIGHT
TZNAME:CDT
DTSTART:20170312T020000
TZOFFSETFROM:-0600
TZOFFSETTO:-0500
RDATE:20180311T020000
RDATE:20190310T020000
END:DAYLIGHT
END:VTIMEZONE
BEGIN:VEVENT
UID:9b842d74-1921-4919-8607-5b405c5d6b26
DTSTAMP:20260424T170631Z
DESCRIPTION:Join us for a hilarious and charitable night of HamBingo!  Eat\
 , drink\, laugh and help the Greyhounds.\n\nSign up to help as a volunteer
  using the When to Help link below.
DTSTART;TZID=America/Chicago:20180112T190000
DTEND;TZID=America/Chicago:20180112T210000
LOCATION:Hamburger Mary's
SUMMARY:Charity HamBINGO!
END:VEVENT
END:VCALENDAR
