BEGIN:VCALENDAR
VERSION:2.0
PRODID:-//www.mokangreyhounds.org//NONSGML kigkonsult.se iCalcreator 2.30.1
 0//
CALSCALE:GREGORIAN
METHOD:PUBLISH
UID:a532d82e-7459-44ea-a18a-3764803eb902
X-WR-CALDESC:Come and meet our sweet pups and get some Greyhound love!
X-WR-RELCALID:5123b77440cbc51b4b9f9b01a6c0bf32
X-WR-TIMEZONE:America/Chicago
BEGIN:VTIMEZONE
TZID:America/Chicago
BEGIN:STANDARD
TZNAME:CST
DTSTART:20171105T020000
TZOFFSETFROM:-0500
TZOFFSETTO:-0600
RDATE:20181104T020000
END:STANDARD
BEGIN:DAYLIGHT
TZNAME:CDT
DTSTART:20170312T020000
TZOFFSETFROM:-0600
TZOFFSETTO:-0500
RDATE:20180311T020000
RDATE:20190310T020000
END:DAYLIGHT
END:VTIMEZONE
BEGIN:VEVENT
UID:c91df87c-eb4f-4d45-8e1b-b4b15ba8d1d7
DTSTAMP:20260424T170656Z
DESCRIPTION:Come and meet our sweet pups and get some Greyhound love!
DTSTART;TZID=America/Chicago:20180113T110000
DTEND;TZID=America/Chicago:20180113T150000
LOCATION:233 S Stewart Rd\, Liberty\, MO 64068
SUMMARY:Petco - Liberty\, MO
END:VEVENT
END:VCALENDAR
