BEGIN:VCALENDAR
VERSION:2.0
PRODID:-//www.mokangreyhounds.org//NONSGML kigkonsult.se iCalcreator 2.30.1
 0//
CALSCALE:GREGORIAN
METHOD:PUBLISH
UID:849e16b3-c6c2-433c-9bf4-534b5a26c3b9
X-WR-CALDESC:Join us at Four Paws Pantry for a day of Greyhound hugs and na
 ps!\n\nVolunteers can sign up for a shift at www.whentohelp.com
X-WR-RELCALID:c3ec5426ed141b3f2763f6af198505c7
X-WR-TIMEZONE:America/Chicago
BEGIN:VTIMEZONE
TZID:America/Chicago
BEGIN:STANDARD
TZNAME:CST
DTSTART:20171105T020000
TZOFFSETFROM:-0500
TZOFFSETTO:-0600
RDATE:20181104T020000
END:STANDARD
BEGIN:DAYLIGHT
TZNAME:CDT
DTSTART:20170312T020000
TZOFFSETFROM:-0600
TZOFFSETTO:-0500
RDATE:20180311T020000
RDATE:20190310T020000
END:DAYLIGHT
END:VTIMEZONE
BEGIN:VEVENT
UID:c1a7232d-66bc-4061-acfa-7737f71c73d4
DTSTAMP:20260424T170046Z
DESCRIPTION:Join us at Four Paws Pantry for a day of Greyhound hugs and nap
 s!\n\nVolunteers can sign up for a shift at www.whentohelp.com
DTSTART;TZID=America/Chicago:20180127T110000
DTEND;TZID=America/Chicago:20180127T150000
LOCATION:Four Paws Pantry & Spa\, 14040 W 119th St\, Olathe\, KS 66062
SUMMARY:Adoption Event - Four Paws Pantry
END:VEVENT
END:VCALENDAR
