BEGIN:VCALENDAR
VERSION:2.0
PRODID:-//www.mokangreyhounds.org//NONSGML kigkonsult.se iCalcreator 2.30.1
 0//
CALSCALE:GREGORIAN
METHOD:PUBLISH
UID:bfe3f1c8-cb44-4857-8bbf-b92bf162c4f1
X-WR-CALDESC:Come and join us for a fun afternoon of Greyhound love!
X-WR-RELCALID:ea30691388c7118682228739d4c943dc
X-WR-TIMEZONE:America/Chicago
BEGIN:VTIMEZONE
TZID:America/Chicago
BEGIN:STANDARD
TZNAME:CST
DTSTART:20171105T020000
TZOFFSETFROM:-0500
TZOFFSETTO:-0600
RDATE:20181104T020000
END:STANDARD
BEGIN:DAYLIGHT
TZNAME:CDT
DTSTART:20170312T020000
TZOFFSETFROM:-0600
TZOFFSETTO:-0500
RDATE:20180311T020000
RDATE:20190310T020000
END:DAYLIGHT
END:VTIMEZONE
BEGIN:VEVENT
UID:e309ef4b-4fde-4764-b658-793d7b077469
DTSTAMP:20260424T170210Z
DESCRIPTION:Come and join us for a fun afternoon of Greyhound love!
DTSTART;TZID=America/Chicago:20180127T110000
DTEND;TZID=America/Chicago:20180127T150000
LOCATION:6312 N Chatham Ave\, Kansas City\, MO 64151
SUMMARY:Bentley's Pet Stuff - Tremont Square
END:VEVENT
END:VCALENDAR
