BEGIN:VCALENDAR
VERSION:2.0
PRODID:-//www.mokangreyhounds.org//NONSGML kigkonsult.se iCalcreator 2.30.1
 0//
CALSCALE:GREGORIAN
METHOD:PUBLISH
UID:1c588b26-a7f5-4f2b-8c50-16b6451dc1ef
X-WR-CALDESC:Come and join us for a fun afternoon of Greyhound love!
X-WR-RELCALID:25baf8d36aba04fcdf56148650502e8d
X-WR-TIMEZONE:America/Chicago
BEGIN:VTIMEZONE
TZID:America/Chicago
BEGIN:STANDARD
TZNAME:CST
DTSTART:20171105T020000
TZOFFSETFROM:-0500
TZOFFSETTO:-0600
RDATE:20181104T020000
END:STANDARD
BEGIN:DAYLIGHT
TZNAME:CDT
DTSTART:20170312T020000
TZOFFSETFROM:-0600
TZOFFSETTO:-0500
RDATE:20180311T020000
RDATE:20190310T020000
END:DAYLIGHT
END:VTIMEZONE
BEGIN:VEVENT
UID:3b797391-20fc-4da2-b5e3-6d55b8e9a07a
DTSTAMP:20260424T151305Z
DESCRIPTION:Come and join us for a fun afternoon of Greyhound love!
DTSTART;TZID=America/Chicago:20180210T110000
DTEND;TZID=America/Chicago:20180210T150000
LOCATION:8752 NE 82nd Terrace\, Kansas City\, MO 64158
SUMMARY:Bentley's Pet Stuff - Kansas City\, MO
END:VEVENT
END:VCALENDAR
