BEGIN:VCALENDAR
VERSION:2.0
PRODID:-//www.mokangreyhounds.org//NONSGML kigkonsult.se iCalcreator 2.30.1
 0//
CALSCALE:GREGORIAN
METHOD:PUBLISH
UID:f42c3317-f8d3-4599-a0fc-e3bebe927227
X-WR-CALDESC:Come and join us for a fun afternoon of Greyhound love!
X-WR-RELCALID:5e2a62357e53561a788c2af6d26468ce
X-WR-TIMEZONE:America/Chicago
BEGIN:VTIMEZONE
TZID:America/Chicago
BEGIN:STANDARD
TZNAME:CST
DTSTART:20171105T020000
TZOFFSETFROM:-0500
TZOFFSETTO:-0600
RDATE:20181104T020000
END:STANDARD
BEGIN:DAYLIGHT
TZNAME:CDT
DTSTART:20170312T020000
TZOFFSETFROM:-0600
TZOFFSETTO:-0500
RDATE:20180311T020000
RDATE:20190310T020000
END:DAYLIGHT
END:VTIMEZONE
BEGIN:VEVENT
UID:7e8ee25b-c2b7-43d2-a084-697782522db4
DTSTAMP:20260424T022653Z
DESCRIPTION:Come and join us for a fun afternoon of Greyhound love!
DTSTART;TZID=America/Chicago:20180210T110000
DTEND;TZID=America/Chicago:20180210T150000
LOCATION:6555 W. 119th Street Overland Park\, KS 66209
SUMMARY:Bentley's Pet Stuff - Overland Park\, KS
END:VEVENT
END:VCALENDAR
