BEGIN:VCALENDAR
VERSION:2.0
PRODID:-//www.mokangreyhounds.org//NONSGML kigkonsult.se iCalcreator 2.30.1
 0//
CALSCALE:GREGORIAN
METHOD:PUBLISH
UID:c82b0804-9c25-4c23-a011-ca402d1b2fd5
X-WR-CALDESC:Join us at Four Paws Pantry for a day of Greyhound hugs and na
 ps!\n\nVolunteers can sign up for a shift at www.whentohelp.com
X-WR-RELCALID:a47c4ac63be2d0785bec0fe678681ae8
X-WR-TIMEZONE:America/Chicago
BEGIN:VTIMEZONE
TZID:America/Chicago
BEGIN:STANDARD
TZNAME:CST
DTSTART:20171105T020000
TZOFFSETFROM:-0500
TZOFFSETTO:-0600
RDATE:20181104T020000
END:STANDARD
BEGIN:DAYLIGHT
TZNAME:CDT
DTSTART:20170312T020000
TZOFFSETFROM:-0600
TZOFFSETTO:-0500
RDATE:20180311T020000
RDATE:20190310T020000
END:DAYLIGHT
END:VTIMEZONE
BEGIN:VEVENT
UID:2c21b3c1-3931-4c81-b7a5-bd370d3e9e6e
DTSTAMP:20260424T022952Z
DESCRIPTION:Join us at Four Paws Pantry for a day of Greyhound hugs and nap
 s!\n\nVolunteers can sign up for a shift at www.whentohelp.com
DTSTART;TZID=America/Chicago:20180224T110000
DTEND;TZID=America/Chicago:20180224T150000
LOCATION:Four Paws Pantry & Spa\, 14040 W 119th St\, Olathe\, KS 66062
SUMMARY:Adoption Event - Four Paws Pantry
END:VEVENT
END:VCALENDAR
