BEGIN:VCALENDAR
VERSION:2.0
PRODID:-//www.mokangreyhounds.org//NONSGML kigkonsult.se iCalcreator 2.30.1
 0//
CALSCALE:GREGORIAN
METHOD:PUBLISH
UID:af8d8ca5-2a3e-4c71-a457-54d04f9694ca
X-WR-CALDESC:Join us in North Kansas City for an afternoon of napping and G
 reyhound hugs!
X-WR-RELCALID:89bbb3e3e694e73580951d460c4373c1
X-WR-TIMEZONE:America/Chicago
BEGIN:VTIMEZONE
TZID:America/Chicago
BEGIN:STANDARD
TZNAME:CST
DTSTART:20171105T020000
TZOFFSETFROM:-0500
TZOFFSETTO:-0600
RDATE:20181104T020000
END:STANDARD
BEGIN:DAYLIGHT
TZNAME:CDT
DTSTART:20170312T020000
TZOFFSETFROM:-0600
TZOFFSETTO:-0500
RDATE:20180311T020000
RDATE:20190310T020000
END:DAYLIGHT
END:VTIMEZONE
BEGIN:VEVENT
UID:5e0c25a9-5c2f-48f7-b757-865f6a1480e4
DTSTAMP:20260424T025549Z
DESCRIPTION:Join us in North Kansas City for an afternoon of napping and Gr
 eyhound hugs!
DTSTART;TZID=America/Chicago:20180224T110000
DTEND;TZID=America/Chicago:20180224T150000
LOCATION:Miles of Exotics 8350 N Broadway\, Kansas City\, MO 64118
SUMMARY:Adoption Event - Miles of Exotics
END:VEVENT
END:VCALENDAR
