BEGIN:VCALENDAR
VERSION:2.0
PRODID:-//www.mokangreyhounds.org//NONSGML kigkonsult.se iCalcreator 2.30.1
 0//
CALSCALE:GREGORIAN
METHOD:PUBLISH
UID:91befde8-87ca-4761-b0ff-ee38e67fba3a
X-WR-CALDESC:The Brookside St. Patrick’s Warm-up Parade is a family event f
 ocused on fun and the St. Patrick’s holiday.
X-WR-RELCALID:7fbd165772f6815c37d526be43c394b6
X-WR-TIMEZONE:America/Chicago
BEGIN:VTIMEZONE
TZID:America/Chicago
BEGIN:STANDARD
TZNAME:CST
DTSTART:20171105T020000
TZOFFSETFROM:-0500
TZOFFSETTO:-0600
RDATE:20181104T020000
END:STANDARD
BEGIN:DAYLIGHT
TZNAME:CDT
DTSTART:20170312T020000
TZOFFSETFROM:-0600
TZOFFSETTO:-0500
RDATE:20180311T020000
RDATE:20190310T020000
END:DAYLIGHT
END:VTIMEZONE
BEGIN:VEVENT
UID:36623c99-5bdc-4251-893a-4e5b58c2c1e7
DTSTAMP:20260424T003119Z
DESCRIPTION:The Brookside St. Patrick’s Warm-up Parade is a family event fo
 cused on fun and the St. Patrick’s holiday.
DTSTART;TZID=America/Chicago:20180310T140000
DTEND;TZID=America/Chicago:20180310T150000
LOCATION:Brookside\, MO
SUMMARY:2018 Brookside 38th Annual St. Patrick's Warm-Up Parade
END:VEVENT
END:VCALENDAR
