BEGIN:VCALENDAR
VERSION:2.0
PRODID:-//www.mokangreyhounds.org//NONSGML kigkonsult.se iCalcreator 2.30.1
 0//
CALSCALE:GREGORIAN
METHOD:PUBLISH
UID:537b75b8-ee27-42ea-bef3-2c1f874eb322
X-WR-CALDESC:Come for your home remodeling and gardening needs but\, stop t
 o love on the Greyhounds while you are there!
X-WR-RELCALID:fb8dbdddd713d941b6c764bda3c45be6
X-WR-TIMEZONE:America/Chicago
BEGIN:VTIMEZONE
TZID:America/Chicago
BEGIN:STANDARD
TZNAME:CST
DTSTART:20171105T020000
TZOFFSETFROM:-0500
TZOFFSETTO:-0600
RDATE:20181104T020000
END:STANDARD
BEGIN:DAYLIGHT
TZNAME:CDT
DTSTART:20180311T020000
TZOFFSETFROM:-0600
TZOFFSETTO:-0500
RDATE:20190310T020000
END:DAYLIGHT
END:VTIMEZONE
BEGIN:VEVENT
UID:cd214143-6b7d-4310-85fe-812725d725d3
DTSTAMP:20260424T004432Z
DESCRIPTION:Come for your home remodeling and gardening needs but\, stop to
  love on the Greyhounds while you are there!
DTSTART;TZID=America/Chicago:20180323T120000
DTEND;TZID=America/Chicago:20180323T200000
LOCATION:Kansas City Convention Center
SUMMARY:Greater Kansas City Home Show
END:VEVENT
END:VCALENDAR
